BEGIN:VCALENDAR
VERSION:2.0
PRODID:-//hacksw/handcal//NONSGML v1.0//EN
CALSCALE:GREGORIAN
BEGIN:VEVENT
DTEND:20221017T173000
UID:43b9d5d946761e2eb10155952c71c45a
DTSTAMP:1664801735
LOCATION:ON-LINE seminar
DESCRIPTION:
URL;VALUE=URI: https://huo.hr/hr/dogadanja/-31
SUMMARY:Edukacija za distributere osiguranja i distributere reosiguranja - Neživotna osiguranja
DTSTART:20221017T083000
END:VEVENT
END:VCALENDAR